BEGIN:VCALENDAR
VERSION:2.0
PRODID:-//Autism Resource Center of Kansas City - ECPv6.15.20//NONSGML v1.0//EN
CALSCALE:GREGORIAN
METHOD:PUBLISH
X-ORIGINAL-URL:https://aarckc.org
X-WR-CALDESC:Events for Autism Resource Center of Kansas City
REFRESH-INTERVAL;VALUE=DURATION:PT1H
X-Robots-Tag:noindex
X-PUBLISHED-TTL:PT1H
BEGIN:VTIMEZONE
TZID:America/Kentucky/Louisville
BEGIN:DAYLIGHT
TZOFFSETFROM:-0500
TZOFFSETTO:-0400
TZNAME:EDT
DTSTART:20250309T070000
END:DAYLIGHT
BEGIN:STANDARD
TZOFFSETFROM:-0400
TZOFFSETTO:-0500
TZNAME:EST
DTSTART:20251102T060000
END:STANDARD
BEGIN:DAYLIGHT
TZOFFSETFROM:-0500
TZOFFSETTO:-0400
TZNAME:EDT
DTSTART:20260308T070000
END:DAYLIGHT
BEGIN:STANDARD
TZOFFSETFROM:-0400
TZOFFSETTO:-0500
TZNAME:EST
DTSTART:20261101T060000
END:STANDARD
BEGIN:DAYLIGHT
TZOFFSETFROM:-0500
TZOFFSETTO:-0400
TZNAME:EDT
DTSTART:20270314T070000
END:DAYLIGHT
BEGIN:STANDARD
TZOFFSETFROM:-0400
TZOFFSETTO:-0500
TZNAME:EST
DTSTART:20271107T060000
END:STANDARD
END:VTIMEZONE
BEGIN:VEVENT
DTSTART;TZID=America/Kentucky/Louisville:20260515T180000
DTEND;TZID=America/Kentucky/Louisville:20260515T193000
DTSTAMP:20260422T135142
CREATED:20260330T191456Z
LAST-MODIFIED:20260330T191818Z
UID:10797-1778868000-1778873400@aarckc.org
SUMMARY:Connections Social Group
DESCRIPTION:$40 to attend the event + participant must bring their own money to purchase food/drink.
URL:https://aarckc.org/event/connections-social-group-5/
LOCATION:Spin! Pizza\, 8224 Mission Rd.\, Prairie Village\, 66208\, United States
CATEGORIES:Connections Program
END:VEVENT
END:VCALENDAR