BEGIN:VCALENDAR
VERSION:2.0
PRODID:-//Autism Resource Center of Kansas City - ECPv6.15.20//NONSGML v1.0//EN
CALSCALE:GREGORIAN
METHOD:PUBLISH
X-WR-CALNAME:Autism Resource Center of Kansas City
X-ORIGINAL-URL:https://aarckc.org
X-WR-CALDESC:Events for Autism Resource Center of Kansas City
REFRESH-INTERVAL;VALUE=DURATION:PT1H
X-Robots-Tag:noindex
X-PUBLISHED-TTL:PT1H
BEGIN:VTIMEZONE
TZID:America/Kentucky/Louisville
BEGIN:DAYLIGHT
TZOFFSETFROM:-0500
TZOFFSETTO:-0400
TZNAME:EDT
DTSTART:20250309T070000
END:DAYLIGHT
BEGIN:STANDARD
TZOFFSETFROM:-0400
TZOFFSETTO:-0500
TZNAME:EST
DTSTART:20251102T060000
END:STANDARD
BEGIN:DAYLIGHT
TZOFFSETFROM:-0500
TZOFFSETTO:-0400
TZNAME:EDT
DTSTART:20260308T070000
END:DAYLIGHT
BEGIN:STANDARD
TZOFFSETFROM:-0400
TZOFFSETTO:-0500
TZNAME:EST
DTSTART:20261101T060000
END:STANDARD
BEGIN:DAYLIGHT
TZOFFSETFROM:-0500
TZOFFSETTO:-0400
TZNAME:EDT
DTSTART:20270314T070000
END:DAYLIGHT
BEGIN:STANDARD
TZOFFSETFROM:-0400
TZOFFSETTO:-0500
TZNAME:EST
DTSTART:20271107T060000
END:STANDARD
END:VTIMEZONE
BEGIN:VEVENT
DTSTART;TZID=America/Kentucky/Louisville:20260519T180000
DTEND;TZID=America/Kentucky/Louisville:20260519T193000
DTSTAMP:20260422T183618
CREATED:20260330T192741Z
LAST-MODIFIED:20260421T170342Z
UID:10807-1779213600-1779219000@aarckc.org
SUMMARY:Junior Connections Night
DESCRIPTION:Junior Connections is for 10th-12th graders\nMaking personal pizzas and a healthy dessert at ARC – please let us know if you have any food allergies.
URL:https://aarckc.org/event/junior-connections-night-2/
LOCATION:ARC of KC\, 8550 Marshall Drive\, Suite 105\, Overland Park\, 66214\, United States
CATEGORIES:Connections Program
END:VEVENT
BEGIN:VEVENT
DTSTART;TZID=America/Kentucky/Louisville:20260515T180000
DTEND;TZID=America/Kentucky/Louisville:20260515T193000
DTSTAMP:20260422T183618
CREATED:20260330T191456Z
LAST-MODIFIED:20260330T191818Z
UID:10797-1778868000-1778873400@aarckc.org
SUMMARY:Connections Social Group
DESCRIPTION:$40 to attend the event + participant must bring their own money to purchase food/drink.
URL:https://aarckc.org/event/connections-social-group-5/
LOCATION:Spin! Pizza\, 8224 Mission Rd.\, Prairie Village\, 66208\, United States
CATEGORIES:Connections Program
END:VEVENT
BEGIN:VEVENT
DTSTART;TZID=America/Kentucky/Louisville:20260505T180000
DTEND;TZID=America/Kentucky/Louisville:20260505T193000
DTSTAMP:20260422T183618
CREATED:20260330T191210Z
LAST-MODIFIED:20260330T192038Z
UID:10795-1778004000-1778009400@aarckc.org
SUMMARY:Connections Social Group
DESCRIPTION:Making personal pizzas and a healthy dessert at ARC – Please let us know if you have any food allergies.
URL:https://aarckc.org/event/connections-social-group-4/
LOCATION:ARC of KC\, 8550 Marshall Drive\, Suite 105\, Overland Park\, 66214\, United States
CATEGORIES:Connections Program
END:VEVENT
BEGIN:VEVENT
DTSTART;TZID=America/Kentucky/Louisville:20260425T083000
DTEND;TZID=America/Kentucky/Louisville:20260425T123000
DTSTAMP:20260422T183618
CREATED:20260306T160238Z
LAST-MODIFIED:20260306T160238Z
UID:10660-1777105800-1777120200@aarckc.org
SUMMARY:Autism & the Workplace: 2026 Autism Resource Center Summit
DESCRIPTION:Join us for a morning of learning\, sharing\, and connecting with amazing professionals\, parents\, advocates\, and organizations passionate about autism support. Whether you’re a family member\, professional\, or educator\, this summit is your chance to explore new resources\, hear inspiring stories\, and build a strong community. \nRESERVE A SPOT TODAY
URL:https://aarckc.org/event/autism-the-workplace-2026-autism-resource-center-summit/
LOCATION:University of Kansas Edwards Campus\, 12600 South Quivira Road\, Overland Park\, KS\, 66213\, United States
CATEGORIES:ARC Summit
END:VEVENT
BEGIN:VEVENT
DTSTART;TZID=America/Kentucky/Louisville:20260421T180000
DTEND;TZID=America/Kentucky/Louisville:20260421T193000
DTSTAMP:20260422T183618
CREATED:20260324T144643Z
LAST-MODIFIED:20260330T193030Z
UID:10783-1776794400-1776799800@aarckc.org
SUMMARY:Junior Connections Night
DESCRIPTION:Junior Connections is for 10th-12th graders – Fitness class (focusing on yoga and stretching)
URL:https://aarckc.org/event/junior-connections-night/
LOCATION:ARC of KC\, 8550 Marshall Drive\, Suite 105\, Overland Park\, 66214\, United States
CATEGORIES:Connections Program
END:VEVENT
BEGIN:VEVENT
DTSTART;TZID=America/Kentucky/Louisville:20260417T180000
DTEND;TZID=America/Kentucky/Louisville:20260417T193000
DTSTAMP:20260422T183618
CREATED:20260330T190356Z
LAST-MODIFIED:20260330T192342Z
UID:10792-1776448800-1776454200@aarckc.org
SUMMARY:Connections Social Group
DESCRIPTION:Fitness class (focusing on yoga and stretching)
URL:https://aarckc.org/event/connections-social-group-3/
LOCATION:ARC of KC\, 8550 Marshall Drive\, Suite 105\, Overland Park\, 66214\, United States
CATEGORIES:Connections Program
END:VEVENT
BEGIN:VEVENT
DTSTART;TZID=America/Kentucky/Louisville:20260407T180000
DTEND;TZID=America/Kentucky/Louisville:20260407T193000
DTSTAMP:20260422T183618
CREATED:20260112T172030Z
LAST-MODIFIED:20260330T192430Z
UID:10517-1775584800-1775590200@aarckc.org
SUMMARY:Connections Social Group
DESCRIPTION:Pickleball games – participants can bring money to purchase food and drink.
URL:https://aarckc.org/event/connections-social-group-040726/
LOCATION:Chicken N Pickle\, 5901 W 135th St\, Overland Park\, KS\, 66223\, United States
CATEGORIES:Connections Program
END:VEVENT
BEGIN:VEVENT
DTSTART;TZID=America/Kentucky/Louisville:20260407T093000
DTEND;TZID=America/Kentucky/Louisville:20260407T113000
DTSTAMP:20260422T183618
CREATED:20260112T162028Z
LAST-MODIFIED:20260326T192817Z
UID:10488-1775554200-1775561400@aarckc.org
SUMMARY:Pathway to Employment - Obtain
DESCRIPTION:
URL:https://aarckc.org/event/pathway-to-employment-obtain/
LOCATION:ARC of KC\, 8550 Marshall Drive\, Suite 105\, Overland Park\, 66214\, United States
CATEGORIES:Pathway to Employment
END:VEVENT
BEGIN:VEVENT
DTSTART;TZID=America/Kentucky/Louisville:20260320T180000
DTEND;TZID=America/Kentucky/Louisville:20260320T193000
DTSTAMP:20260422T183618
CREATED:20260112T171915Z
LAST-MODIFIED:20260223T211444Z
UID:10515-1774029600-1774035000@aarckc.org
SUMMARY:Connections Social Group - Entertainment!
DESCRIPTION:This event will take place at Cardboard Corner Cafe inside a private game room!
URL:https://aarckc.org/event/connections-social-group-entertainment-2/
LOCATION:Cardboard Corner Cafe\, 9240 Metcalf Ave.\, Overland Park\, KS\, 66212\, United States
CATEGORIES:Connections Program
END:VEVENT
BEGIN:VEVENT
DTSTART;TZID=America/Kentucky/Louisville:20260317T180000
DTEND;TZID=America/Kentucky/Louisville:20260317T193000
DTSTAMP:20260422T183618
CREATED:20260210T192950Z
LAST-MODIFIED:20260210T210129Z
UID:10624-1773770400-1773775800@aarckc.org
SUMMARY:Junior Connections Night
DESCRIPTION:Junior Connections is for 10th -12th graders
URL:https://aarckc.org/event/junior-connections-night-0326/
LOCATION:ARC of KC\, 8550 Marshall Drive\, Suite 105\, Overland Park\, 66214\, United States
CATEGORIES:Connections Program
END:VEVENT
BEGIN:VEVENT
DTSTART;TZID=America/Kentucky/Louisville:20260303T180000
DTEND;TZID=America/Kentucky/Louisville:20260303T193000
DTSTAMP:20260422T183618
CREATED:20260112T171750Z
LAST-MODIFIED:20260223T211410Z
UID:10512-1772560800-1772566200@aarckc.org
SUMMARY:Connections Social Group - Entertainment!
DESCRIPTION:March’s theme is Entertainment! \nAll things movies – trivia\, games\, etc.
URL:https://aarckc.org/event/connections-social-group-entertainment/
LOCATION:ARC of KC\, 8550 Marshall Drive\, Suite 105\, Overland Park\, 66214\, United States
CATEGORIES:Connections Program
END:VEVENT
BEGIN:VEVENT
DTSTART;TZID=America/Kentucky/Louisville:20260303T080000
DTEND;TZID=America/Kentucky/Louisville:20260319T170000
DTSTAMP:20260422T183618
CREATED:20260112T161940Z
LAST-MODIFIED:20260112T161940Z
UID:10486-1772524800-1773939600@aarckc.org
SUMMARY:Pathway to Employment - Gain
DESCRIPTION:
URL:https://aarckc.org/event/pathway-to-employment-gain/
LOCATION:ARC of KC\, 8550 Marshall Drive\, Suite 105\, Overland Park\, 66214\, United States
CATEGORIES:Pathway to Employment
END:VEVENT
BEGIN:VEVENT
DTSTART;VALUE=DATE:20260220
DTEND;VALUE=DATE:20260221
DTSTAMP:20260422T183618
CREATED:20260112T170245Z
LAST-MODIFIED:20260113T205959Z
UID:10509-1771545600-1771631999@aarckc.org
SUMMARY:Connections Social Group - Fun and Games!
DESCRIPTION:Indoor Mini Golf at Craft Putt! This event’s cost is $45\, which include the price of admission. Food and drink can be purchased at the venue at an additional cost.
URL:https://aarckc.org/event/connections-social-group-2/
LOCATION:Indoor Mini Golf at Craft Putt\, 11440 W 135th St.\, Overland Park\, 66221\, United States
CATEGORIES:Connections Program
END:VEVENT
BEGIN:VEVENT
DTSTART;TZID=America/Kentucky/Louisville:20260203T180000
DTEND;TZID=America/Kentucky/Louisville:20260203T193000
DTSTAMP:20260422T183618
CREATED:20260112T170016Z
LAST-MODIFIED:20260112T170016Z
UID:10507-1770141600-1770147000@aarckc.org
SUMMARY:Connections - Social Group
DESCRIPTION:February’s theme is GAMES – board and card games at ARC!
URL:https://aarckc.org/event/connections-social-group/
LOCATION:ARC of KC\, 8550 Marshall Drive\, Suite 105\, Overland Park\, 66214\, United States
CATEGORIES:Connections Program
END:VEVENT
BEGIN:VEVENT
DTSTART;TZID=America/Kentucky/Louisville:20260203T080000
DTEND;TZID=America/Kentucky/Louisville:20260219T170000
DTSTAMP:20260422T183618
CREATED:20260112T161834Z
LAST-MODIFIED:20260112T165144Z
UID:10484-1770105600-1771520400@aarckc.org
SUMMARY:Pathway to Employment - Sustain
DESCRIPTION:
URL:https://aarckc.org/event/pathway-to-employment-sustain/
LOCATION:ARC of KC\, 8550 Marshall Drive\, Suite 105\, Overland Park\, 66214\, United States
CATEGORIES:Pathway to Employment
END:VEVENT
BEGIN:VEVENT
DTSTART;TZID=America/Kentucky/Louisville:20260116T180000
DTEND;TZID=America/Kentucky/Louisville:20260116T193000
DTSTAMP:20260422T183618
CREATED:20260107T195752Z
LAST-MODIFIED:20260108T160543Z
UID:10470-1768586400-1768591800@aarckc.org
SUMMARY:Connections Group Meeting
DESCRIPTION:
URL:https://aarckc.org/event/event-1/
LOCATION:Red Door Woodfired Grill of Lenexa\, 15918 W 88th St\, Lenexa\, KS\, 66219\, United States
CATEGORIES:Connections Program
END:VEVENT
BEGIN:VEVENT
DTSTART;TZID=America/Kentucky/Louisville:20260106T080000
DTEND;TZID=America/Kentucky/Louisville:20260122T170000
DTSTAMP:20260422T183618
CREATED:20260112T161620Z
LAST-MODIFIED:20260112T161732Z
UID:10480-1767686400-1769101200@aarckc.org
SUMMARY:Pathway to Employment - Obtain
DESCRIPTION:
URL:https://aarckc.org/event/pathway-to-employment/
LOCATION:ARC of KC\, 8550 Marshall Drive\, Suite 105\, Overland Park\, 66214\, United States
CATEGORIES:Pathway to Employment
END:VEVENT
END:VCALENDAR