BEGIN:VCALENDAR
VERSION:2.0
PRODID:-//Autism Resource Center of Kansas City - ECPv6.15.20//NONSGML v1.0//EN
CALSCALE:GREGORIAN
METHOD:PUBLISH
X-WR-CALNAME:Autism Resource Center of Kansas City
X-ORIGINAL-URL:https://aarckc.org
X-WR-CALDESC:Events for Autism Resource Center of Kansas City
REFRESH-INTERVAL;VALUE=DURATION:PT1H
X-Robots-Tag:noindex
X-PUBLISHED-TTL:PT1H
BEGIN:VTIMEZONE
TZID:America/Kentucky/Louisville
BEGIN:DAYLIGHT
TZOFFSETFROM:-0500
TZOFFSETTO:-0400
TZNAME:EDT
DTSTART:20250309T070000
END:DAYLIGHT
BEGIN:STANDARD
TZOFFSETFROM:-0400
TZOFFSETTO:-0500
TZNAME:EST
DTSTART:20251102T060000
END:STANDARD
BEGIN:DAYLIGHT
TZOFFSETFROM:-0500
TZOFFSETTO:-0400
TZNAME:EDT
DTSTART:20260308T070000
END:DAYLIGHT
BEGIN:STANDARD
TZOFFSETFROM:-0400
TZOFFSETTO:-0500
TZNAME:EST
DTSTART:20261101T060000
END:STANDARD
BEGIN:DAYLIGHT
TZOFFSETFROM:-0500
TZOFFSETTO:-0400
TZNAME:EDT
DTSTART:20270314T070000
END:DAYLIGHT
BEGIN:STANDARD
TZOFFSETFROM:-0400
TZOFFSETTO:-0500
TZNAME:EST
DTSTART:20271107T060000
END:STANDARD
END:VTIMEZONE
BEGIN:VEVENT
DTSTART;TZID=America/Kentucky/Louisville:20260707T093000
DTEND;TZID=America/Kentucky/Louisville:20260707T113000
DTSTAMP:20260422T183339
CREATED:20260112T163021Z
LAST-MODIFIED:20260326T192750Z
UID:10494-1783416600-1783423800@aarckc.org
SUMMARY:Pathway to Employment - Obtain
DESCRIPTION:
URL:https://aarckc.org/event/pathway-to-employment-obtain-2/
LOCATION:ARC of KC\, 8550 Marshall Drive\, Suite 105\, Overland Park\, 66214\, United States
CATEGORIES:Pathway to Employment
END:VEVENT
BEGIN:VEVENT
DTSTART;TZID=America/Kentucky/Louisville:20260807T093000
DTEND;TZID=America/Kentucky/Louisville:20260807T113000
DTSTAMP:20260422T183339
CREATED:20260112T163153Z
LAST-MODIFIED:20260326T202301Z
UID:10496-1786095000-1786102200@aarckc.org
SUMMARY:Pathway to Employment - Sustain
DESCRIPTION:
URL:https://aarckc.org/event/pathway-to-employment-sustain-3/
LOCATION:ARC of KC\, 8550 Marshall Drive\, Suite 105\, Overland Park\, 66214\, United States
CATEGORIES:Pathway to Employment
END:VEVENT
BEGIN:VEVENT
DTSTART;TZID=America/Kentucky/Louisville:20260901T093000
DTEND;TZID=America/Kentucky/Louisville:20260901T113000
DTSTAMP:20260422T183339
CREATED:20260112T164022Z
LAST-MODIFIED:20260326T202240Z
UID:10498-1788255000-1788262200@aarckc.org
SUMMARY:Pathway to Employment - Gain
DESCRIPTION:
URL:https://aarckc.org/event/pathway-to-employment-gain-3/
LOCATION:ARC of KC\, 8550 Marshall Drive\, Suite 105\, Overland Park\, 66214\, United States
CATEGORIES:Pathway to Employment
END:VEVENT
BEGIN:VEVENT
DTSTART;TZID=America/Kentucky/Louisville:20261006T093000
DTEND;TZID=America/Kentucky/Louisville:20261006T113000
DTSTAMP:20260422T183339
CREATED:20260112T164117Z
LAST-MODIFIED:20260326T202157Z
UID:10500-1791279000-1791286200@aarckc.org
SUMMARY:Pathway to Employment - Obtain
DESCRIPTION:
URL:https://aarckc.org/event/pathway-to-employment-obtain-3/
LOCATION:ARC of KC\, 8550 Marshall Drive\, Suite 105\, Overland Park\, 66214\, United States
CATEGORIES:Pathway to Employment
END:VEVENT
BEGIN:VEVENT
DTSTART;TZID=America/Kentucky/Louisville:20261103T093000
DTEND;TZID=America/Kentucky/Louisville:20261103T113000
DTSTAMP:20260422T183339
CREATED:20260112T164202Z
LAST-MODIFIED:20260326T202121Z
UID:10502-1793698200-1793705400@aarckc.org
SUMMARY:Pathway to Employment - Sustain
DESCRIPTION:
URL:https://aarckc.org/event/pathway-to-employment-sustain-4/
LOCATION:ARC of KC\, 8550 Marshall Drive\, Suite 105\, Overland Park\, 66214\, United States
CATEGORIES:Pathway to Employment
END:VEVENT
BEGIN:VEVENT
DTSTART;TZID=America/Kentucky/Louisville:20261201T093000
DTEND;TZID=America/Kentucky/Louisville:20261201T113000
DTSTAMP:20260422T183339
CREATED:20260112T164651Z
LAST-MODIFIED:20260326T202049Z
UID:10504-1796117400-1796124600@aarckc.org
SUMMARY:Pathway to Employment - Gain
DESCRIPTION:
URL:https://aarckc.org/event/pathway-to-employment-gain-4/
LOCATION:ARC of KC\, 8550 Marshall Drive\, Suite 105\, Overland Park\, 66214\, United States
CATEGORIES:Pathway to Employment
END:VEVENT
END:VCALENDAR