BEGIN:VCALENDAR
VERSION:2.0
PRODID:-//Autism Resource Center of Kansas City - ECPv6.15.20//NONSGML v1.0//EN
CALSCALE:GREGORIAN
METHOD:PUBLISH
X-ORIGINAL-URL:https://aarckc.org
X-WR-CALDESC:Events for Autism Resource Center of Kansas City
REFRESH-INTERVAL;VALUE=DURATION:PT1H
X-Robots-Tag:noindex
X-PUBLISHED-TTL:PT1H
BEGIN:VTIMEZONE
TZID:America/Kentucky/Louisville
BEGIN:DAYLIGHT
TZOFFSETFROM:-0500
TZOFFSETTO:-0400
TZNAME:EDT
DTSTART:20250309T070000
END:DAYLIGHT
BEGIN:STANDARD
TZOFFSETFROM:-0400
TZOFFSETTO:-0500
TZNAME:EST
DTSTART:20251102T060000
END:STANDARD
BEGIN:DAYLIGHT
TZOFFSETFROM:-0500
TZOFFSETTO:-0400
TZNAME:EDT
DTSTART:20260308T070000
END:DAYLIGHT
BEGIN:STANDARD
TZOFFSETFROM:-0400
TZOFFSETTO:-0500
TZNAME:EST
DTSTART:20261101T060000
END:STANDARD
BEGIN:DAYLIGHT
TZOFFSETFROM:-0500
TZOFFSETTO:-0400
TZNAME:EDT
DTSTART:20270314T070000
END:DAYLIGHT
BEGIN:STANDARD
TZOFFSETFROM:-0400
TZOFFSETTO:-0500
TZNAME:EST
DTSTART:20271107T060000
END:STANDARD
END:VTIMEZONE
BEGIN:VEVENT
DTSTART;TZID=America/Kentucky/Louisville:20260407T093000
DTEND;TZID=America/Kentucky/Louisville:20260407T113000
DTSTAMP:20260422T113300
CREATED:20260112T162028Z
LAST-MODIFIED:20260326T192817Z
UID:10488-1775554200-1775561400@aarckc.org
SUMMARY:Pathway to Employment - Obtain
DESCRIPTION:
URL:https://aarckc.org/event/pathway-to-employment-obtain/
LOCATION:ARC of KC\, 8550 Marshall Drive\, Suite 105\, Overland Park\, 66214\, United States
CATEGORIES:Pathway to Employment
END:VEVENT
BEGIN:VEVENT
DTSTART;TZID=America/Kentucky/Louisville:20260407T180000
DTEND;TZID=America/Kentucky/Louisville:20260407T193000
DTSTAMP:20260422T113300
CREATED:20260112T172030Z
LAST-MODIFIED:20260330T192430Z
UID:10517-1775584800-1775590200@aarckc.org
SUMMARY:Connections Social Group
DESCRIPTION:Pickleball games – participants can bring money to purchase food and drink.
URL:https://aarckc.org/event/connections-social-group-040726/
LOCATION:Chicken N Pickle\, 5901 W 135th St\, Overland Park\, KS\, 66223\, United States
CATEGORIES:Connections Program
END:VEVENT
BEGIN:VEVENT
DTSTART;TZID=America/Kentucky/Louisville:20260417T180000
DTEND;TZID=America/Kentucky/Louisville:20260417T193000
DTSTAMP:20260422T113300
CREATED:20260330T190356Z
LAST-MODIFIED:20260330T192342Z
UID:10792-1776448800-1776454200@aarckc.org
SUMMARY:Connections Social Group
DESCRIPTION:Fitness class (focusing on yoga and stretching)
URL:https://aarckc.org/event/connections-social-group-3/
LOCATION:ARC of KC\, 8550 Marshall Drive\, Suite 105\, Overland Park\, 66214\, United States
CATEGORIES:Connections Program
END:VEVENT
BEGIN:VEVENT
DTSTART;TZID=America/Kentucky/Louisville:20260421T180000
DTEND;TZID=America/Kentucky/Louisville:20260421T193000
DTSTAMP:20260422T113300
CREATED:20260324T144643Z
LAST-MODIFIED:20260330T193030Z
UID:10783-1776794400-1776799800@aarckc.org
SUMMARY:Junior Connections Night
DESCRIPTION:Junior Connections is for 10th-12th graders – Fitness class (focusing on yoga and stretching)
URL:https://aarckc.org/event/junior-connections-night/
LOCATION:ARC of KC\, 8550 Marshall Drive\, Suite 105\, Overland Park\, 66214\, United States
CATEGORIES:Connections Program
END:VEVENT
BEGIN:VEVENT
DTSTART;TZID=America/Kentucky/Louisville:20260425T083000
DTEND;TZID=America/Kentucky/Louisville:20260425T123000
DTSTAMP:20260422T113300
CREATED:20260306T160238Z
LAST-MODIFIED:20260306T160238Z
UID:10660-1777105800-1777120200@aarckc.org
SUMMARY:Autism & the Workplace: 2026 Autism Resource Center Summit
DESCRIPTION:Join us for a morning of learning\, sharing\, and connecting with amazing professionals\, parents\, advocates\, and organizations passionate about autism support. Whether you’re a family member\, professional\, or educator\, this summit is your chance to explore new resources\, hear inspiring stories\, and build a strong community. \nRESERVE A SPOT TODAY
URL:https://aarckc.org/event/autism-the-workplace-2026-autism-resource-center-summit/
LOCATION:University of Kansas Edwards Campus\, 12600 South Quivira Road\, Overland Park\, KS\, 66213\, United States
CATEGORIES:ARC Summit
END:VEVENT
END:VCALENDAR